Workbook

Sheet 表3
A1: 辰溪县帮扶小额信贷财政贴息资金到户名册表
A2: （2026年第6-9月）
A3: 填报单位：辰溪县产业扶贫金融服务中心 填报日期：2026/10/22 单位：元
A4: 村名 | B4: 贷款户主姓名 | C4: 起息日期 | D4: 结息日期 | E4: 贷款金额 | F4: 利息金额 | G4: 申请70%贴息金额 | H4: 备注
A6: 雪峰 | B6: 肖典桂 | C6: 46174 | D6: 46295 | E6: 50000 | F6: 310.64286 | G6: 217.45
A7: 龙头庵 | B7: 肖洪加 | C7: 46174 | D7: 46295 | E7: 48000 | F7: 562.54 | G7: 393.78
A8: 长田 | B8: 许多刚 | C8: 46174 | D8: 46295 | E8: 50000 | F8: 558.2 | G8: 390.74
A9: 茶元村 | B9: 米修和 | C9: 46174 | D9: 46295 | E9: 50000 | F9: 600.69 | G9: 420.48
A10: 茶元3 | B10: 米贤松 | C10: 46174 | D10: 46295 | E10: 50000 | F10: 511.11429 | G10: 357.78
A11: 长田18 | B11: 许多风 | C11: 46174 | D11: 46295 | E11: 50000 | F11: 620.97143 | G11: 434.68
A12: 寨门2 | B12: 刘熠熠 | C12: 46174 | D12: 46295 | E12: 50000 | F12: 512.51429 | G12: 358.76
A13: 九曲3 | B13: 米庆桥 | C13: 46174 | D13: 46295 | E13: 50000 | F13: 512.51429 | G13: 358.76
A14: 戴家坪10 | B14: 刘玉海 | C14: 46174 | D14: 46295 | E14: 50000 | F14: 511.11429 | G14: 357.78
A15: 塘冲3 | B15: 翟德发 | C15: 46174 | D15: 46295 | E15: 50000 | F15: 511.11429 | G15: 357.78
A16: 枣子2 | B16: 米庆田 | C16: 46174 | D16: 46295 | E16: 50000 | F16: 511.11429 | G16: 357.78
A17: 枣子3 | B17: 米久贤 | C17: 46174 | D17: 46295 | E17: 50000 | F17: 509.17143 | G17: 356.42
... A137: 周家人村 | B137: 周轩 | C137: 45987 | D137: 46286 | E137: 50000 | F137: 1504.19 | G137: 1052.93
A139: 龙泉岩乡松林溪村5组 | B139: 胡自永 | C139: 20260601 | D139: 20260930 | E139: 50000 | F139: 666.66 | G139: =F139*0.7 -> 466.662
A140: 龙泉岩乡松林溪村9组 | B140: 郑孝平 | C140: 20260601 | D140: 20260930 | E140: 50000 | F140: 417.08 | G140: =F140*0.7 -> 291.956
A141: 龙泉岩乡板溪村11组 | B141: 黄烈美 | C141: 20260601 | D141: 20260930 | E141: 50000 | F141: 733.34 | G141: =F141*0.7 -> 513.338
A142: 龙泉岩乡板溪村9组 | B142: 罗天送 | C142: 20260601 | D142: 20260930 | E142: 50000 | F142: 666.66 | G142: =F142*0.7 -> 466.662
A143: 龙泉岩乡板溪村 | B143: 瞿凤英 | C143: 20260601 | D143: 20260930 | E143: 10000 | F143: 83.42 | G143: =F143*0.7 -> 58.394
A144: 龙泉岩乡金家坳村9组 | B144: 刘中华 | C144: 20260601 | D144: 20260930 | E144: 50000 | F144: 766.66 | G144: =F144*0.7 -> 536.662
A145: 龙泉岩乡金家坳村11组 | B145: 满长好 | C145: 20260601 | D145: 20260930 | E145: 50000 | F145: 755 | G145: =F145*0.7 -> 528.5
A146: 龙泉岩乡龙泉岩村20组 | B146: 黄八喜 | C146: 20260601 | D146: 20260930 | E146: 50000 | F146: 421.66 | G146: =F146*0.7 -> 295.162
A147: 龙泉岩乡龙泉岩村12组 | B147: 黄良贵 | C147: 20260601 | D147: 20260930 | E147: 50000 | F147: 747.89 | G147: =F147*0.7 -> 523.523
A148: 龙泉岩乡龙泉岩村18组 | B148: 谢和珍 | C148: 20260601 | D148: 20260930 | E148: 50000 | F148: 666.66 | G148: =F148*0.7 -> 466.662
A149: 龙泉岩乡龙泉岩村3组 | B149: 谢军 | C149: 20260601 | D149: 20260930 | E149: 50000 | F149: 379.17 | G149: =F149*0.7 -> 265.419
A150: 龙泉岩乡龙泉岩村6组 | B150: 易加清 | C150: 20260601 | D150: 20260930 | E150: 50000 | F150: 417.08 | G150: =F150*0.7 -> 291.956
... A157: 龙泉岩乡刘家坪村15组 | B157: 张乐爱 | C157: 20260601 | D157: 20260930 | E157: 50000 | F157: 417.08 | G157: =F157*0.7 -> 291.956
A159: 后塘瑶族乡前塘11 | B159: 刘林徐 | C159: 20260522 | D159: 20260921 | E159: 50000 | F159: 660.9 | G159: 462.63
A160: 后塘乡六里村 | B160: 舒和平 | C160: 20260527 | D160: 20260526 | E160: 50000 | F160: 533.34 | G160: 373.34
A161: 后塘瑶族乡岩门村十组 | B161: 叶竹蕊 | C161: 20260522 | D161: 20260921 | E161: 50000 | F161: 502.31 | G161: 351.62
A162: 后塘瑶族乡岩门村8组 | B162: 舒象群 | C162: 20260523 | D162: 2026091 | E162: 50000 | F162: 508.34 | G162: 355.84
A163: 后塘瑶族乡岩门村二组 | B163: 舒远长 | C163: 20260523 | D163: 20260921 | E163: 50000 | F163: 666.67 | G163: 466.67
A164: 后塘瑶族乡元坪村十组 | B164: 叶发 | C164: 20260415 | D164: 20260921 | E164: 50000 | F164: 666.67 | G164: 504.17
A165: 后塘瑶族乡王家村十八组 | B165: 舒远云 | C165: 20260415 | D165: 20260921 | E165: 50000 | F165: 666.66 | G165: 504.16
A166: 后塘瑶族乡岩门村三组 | B166: 舒大安 | C166: 20260415 | D166: 20260921 | E166: 50000 | F166: 664.18 | G166: 502.43
A167: 后塘瑶族乡岩门村七组 | B167: 舒福秋 | C167: 20260415 | D167: 20260921 | E167: 50000 | F167: 666.04 | G167: 503.73
A168: 后塘瑶族乡岩门村4组 | B168: 夏德春 | C168: 20260327 | D168: 20260921 | E168: 50000 | F168: 783.33 | G168: 623.33
A169: 后塘乡六里8组 | B169: 舒象满 | C169: 20260312 | D169: 20260910 | E169: 50000 | F169: 762.5 | G169: 608.75
A170: 后塘乡莲花村13组 | B170: 宋铁刚 | C170: 20260522 | D170: 20260921 | E170: 50000 | F170: 512.5 | G170: 358.75
A171: 后塘瑶族乡漩湾村二组 | B171: 舒远福 | C171: 20260522 | D171: 20260921 | E171: 50000 | F171: 375 | G171: 262.5
A172: 后塘瑶族乡丹山村四组 | B172: 叶武 | C172: 20260415 | D172: 20260925 | E172: 50000 | F172: 733.04 | G172: 550.63
... A183: 后塘瑶族乡莲花11 | B183: 袁辉光 | C183: 20260522 | D183: 20260921 | E183: 50000 | F183: 512.51 | G183: 358.76
A184: 后塘瑶族乡前塘12 | B184: 舒艳艳 | C184: 20251227 | D184: 20260413 | E184: 50000 | F184: 0 | G184: 0
A185: 后塘瑶族乡莲花11 | B185: 刘福珍 | C185: 20260522 | D185: 20260921 | E185: 50000 | F185: 512.51 | G185: 358.76
A186: 后塘瑶族乡金桥6 | B186: 陈丁妹 | C186: 20260522 | D186: 20260921 | E186: 50000 | F186: 512.51 | G186: 358.76
A187: 后塘瑶族乡莲花15 | B187: 宋思根 | C187: 20260522 | D187: 20260921 | E187: 50000 | F187: 512.51 | G187: 358.76
A188: 后塘瑶族乡六里7 | B188: 舒秋粮 | C188: 20260522 | D188: 20260921 | E188: 50000 | F188: 512.51 | G188: 358.76
A189: 后塘瑶族乡前塘20 | B189: 舒小芳 | C189: 20251029 | D189: 20260125 | E189: 30000 | F189: 0 | G189: 0
A190: 后塘瑶族乡莲花 | B190: 石渊财 | C190: 20260522 | D190: 20260921 | E190: 50000 | F190: 512.51 | G190: 358.76
A191: 后唐乡松来村10组 | B191: 舒孝远 | C191: 20260522 | D191: 20260921 | E191: 50000 | F191: 512.5 | G191: 358.75
A193: 罗峰村4组 | B193: 刘远刚 | C193: 46129 | D193: 46286 | E193: 50000 | F193: 718.43 | G193: =F193*0.7 -> 502.901
A194: 罗峰村2组 | B194: 刘成桥 | C194: 46129 | D194: 46293 | E194: 50000 | F194: 731.06 | G194: =F194*0.7 -> 511.742
A195: 总山村11组 | B195: 梁长乐 | C195: 46129 | D195: 46283 | E195: 50000 | F195: 645.84 | G195: =F195*0.7 -> 452.088
A196: 罗峰村13组 | B196: 米竹林 | C196: 46129 | D196: 46286 | E196: 50000 | F196: 658.34 | G196: =F196*0.7 -> 460.838
A197: 罗峰村10组 | B197: 吴礼学 | C197: 46129 | D197: 46275 | E197: 50000 | F197: 612.5 | G197: =F197*0.7 -> 428.75
A198: 板栗坪村1组 | B198: 米久旺 | C198: 46129 | D198: 46289 | E198: 50000 | F198: 658.34 | G198: =F198*0.7 -> 460.838
A199: 罗峰村13组 | B199: 米长栾 | C199: 46129 | D199: 46286 | E199: 50000 | F199: 724.17 | G199: =F199*0.7 -> 506.919
A200: 罗峰村8组 | B200: 廖声礼 | C200: 46129 | D200: 46195 | E200: 50000 | F200: 307.08 | G200: =F200*0.7 -> 214.956
A201: 罗峰村10组 | B201: 舒远见 | C201: 45995 | D201: 46286 | E201: 30000 | F201: 727.5 | G201: =332.5+395*0.7 -> 609
A202: 刘家垄村5组 | B202: 舒象聪 | C202: 45982 | D202: 46255 | E202: 50000 | F202: 1137.49 | G202: =754.16+383.33*0.7 -> 1022.491
A203: 总山村十三组 | B203: 梁长伍 | C203: 45982 | D203: 46286 | E203: 50000 | F203: 1266.67 | G203: =608.33+658.34*0.7 -> 1069.168
A204: 刘家垄村四组 | B204: 刘朝阳 | C204: 45953 | D204: 46289 | E204: 50000 | F204: 1387.49 | G204: =729.16+658.33*0.7 -> 1189.991
A205: 罗峰村14组 | B205: 舒小金 | C205: 45948 | D205: 46294 | E205: 50000 | F205: 1408.33 | G205: =731.42+676.91*0.7 -> 1205.257
A206: 罗峰村3组 | B206: 杨长贵 | C206: 46129 | D206: 46286 | E206: 50000 | F206: 724.17 | G206: =F206*0.7 -> 506.919
A207: 罗峰村9组 | B207: 米长法 | C207: 46129 | D207: 46286 | E207: 50000 | F207: 724.17 | G207: =F207*0.7 -> 506.919
A208: 罗峰村3组 | B208: 沈状元 | C208: 46129 | D208: 46286 | E208: 50000 | F208: 724.17 | G208: =F208*0.7 -> 506.919
A209: 玉虎岭村6组 | B209: 刘成任 | C209: 46129 | D209: 46286 | E209: 50000 | F209: 724.17 | G209: =F209*0.7 -> 506.919
A210: 罗峰村12组 | B210: 米金桃 | C210: 46129 | D210: 46286 | E210: 50000 | F210: 724.17 | G210: =F210*0.7 -> 506.919
A211: 桂林村四组 | B211: 米久其 | C211: 46129 | D211: 46286 | E211: 50000 | F211: 658.34 | G211: =F211*0.7 -> 460.838
A212: 罗峰村十四组 | B212: 米思薇 | C212: 46142 | D212: 46233 | E212: 50000 | F212: 379.17 | G212: =F212*0.7 -> 265.419
A213: 岩坪村一组 | B213: 米久标 | C213: 46129 | D213: 46286 | E213: 50000 | F213: 658.34 | G213: =F213*0.7 -> 460.838
A214: 桂林村3组 | B214: 米晓兰 | C214: 46129 | D214: 46286 | E214: 50000 | F214: 658.34 | G214: =F214*0.7 -> 460.838
A215: 罗峰村6组 | B215: 向杏花 | C215: 46129 | D215: 46286 | E215: 50000 | F215: 658.34 | G215: =F215*0.7 -> 460.838
A216: 罗峰村十组 | B216: 舒远军 | C216: 46129 | D216: 46286 | E216: 50000 | F216: 658.34 | G216: =F216*0.7 -> 460.838
A217: 岩坪村三组 | B217: 向兆伟 | C217: 46129 | D217: 46286 | E217: 50000 | F217: 658.34 | G217: =F217*0.7 -> 460.838
... A219: 玉虎岭村六组 | B219: 廖家元 | C219: 46129 | D219: 46286 | E219: 50000 | F219: 658.34 | G219: =F219*0.7 -> 460.838
A220: 罗峰村十二组 | B220: 蒲声桥 | C220: 45939 | D220: 46289 | E220: 50000 | F220: 1445.83 | G220: =787.5+658.33*0.7 -> 1248.331
A221: 罗峰村三组 | B221: 米久元 | C221: 46247 | D221: 46294 | E221: 50000 | F221: 595.84 | G221: =F221*0.7 -> 417.088
A222: 桂林村一组 | B222: 米久兰 | C222: 46246 | D222: 46286 | E222: 50000 | F222: 162.5 | G222: =F222*0.7 -> 113.75
A223: 罗峰村二组 | B223: 刘欢 | C223: 46198 | D223: 46290 | E223: 50000 | F223: 658.34 | G223: =F223*0.7 -> 460.838
A224: 桂林村一组 | B224: 舒云 | C224: 45982 | D224: 46246 | E224: 50000 | F224: 1099.99 | G224: =513.46+586.53*0.7 -> 924.031
A225: 总山村七组 | B225: 舒爱云 | C225: 45975 | D225: 46099 | E225: 50000 | F225: 516.67 | G225: =F225*0.7 -> 361.669
A226: 罗峰村13组 | B226: 米长银 | C226: 45982 | D226: 46264 | E226: 50000 | F226: 1174.99 | G226: =754.16+420.83*0.7 -> 1048.741
A227: 罗峰村4组 | B227: 刘先云 | C227: 45830 | D227: 46272 | E227: 50000 | F227: 15.49 | G227: =F227*0.7 -> 10.843
A229: 五保田 | B229: 肖胜桥 | C229: 46174 | D229: 46295 | E229: 10000 | F229: 37.585714 | G229: 26.31
A230: 田坪 | B230: 米久彪 | C230: 46174 | D230: 46295 | E230: 6000 | F230: 64.885714 | G230: 45.42
A231: 茂兰冲 | B231: 黄渊真 | C231: 46174 | D231: 46295 | E231: 50000 | F231: 639.32857 | G231: 447.53
A232: 梯田5 | B232: 米桥喜 | C232: 46174 | D232: 46295 | E232: 50000 | F232: 578.51429 | G232: 404.96
A233: 上蒲溪5 | B233: 瞿开德 | C233: 46174 | D233: 46295 | E233: 50000 | F233: 604.81429 | G233: 423.37
A234: 当风2 | B234: 刘彩 | C234: 46174 | D234: 46295 | E234: 50000 | F234: 614.67143 | G234: 430.27
A235: 龙垴上6 | B235: 杨改妹 | C235: 46174 | D235: 46295 | E235: 50000 | F235: 512.51429 | G235: 358.76
A236: 当风村7 | B236: 肖典平 | C236: 46174 | D236: 46295 | E236: 50000 | F236: 3291.1143 | G236: 2303.78
A237: 温溪1 | B237: 米先军 | C237: 46174 | D237: 46295 | E237: 50000 | F237: 562.22857 | G237: 393.56
A238: 五保田 | B238: 许任花 | C238: 46174 | D238: 46295 | E238: 50000 | F238: 546.92 | G238: 382.84
A239: 当风 | B239: 米仁元 | C239: 46174 | D239: 46295 | E239: 50000 | F239: 562.22857 | G239: 393.56
A240: 梯田1 | B240: 石钢 | C240: 46174 | D240: 46295 | E240: 50000 | F240: 649.2 | G240: 454.44
A242: 八家塘 | B242: 张必贵 | C242: 46174 | D242: 46295 | E242: =VLOOKUP(#REF!,[1]Sheet1!$B$1:$G$71,6,FALSE) -> #REF! | F242: 804.16 | G242: =F242*0.7 -> 562.912
...
