Workbook

Sheet 表3
A1: 辰溪县帮扶小额信贷财政贴息资金到户名册表
A2: （2026年第6-9月）
A3: 填报单位：辰溪县产业扶贫金融服务中心 填报日期：2026/10/22 单位：元
A4: 村名 | B4: 贷款户主姓名 | C4: 起息日期 | D4: 结息日期 | E4: 贷款金额 | F4: 利息金额 | G4: 申请70%贴息金额 | H4: 备注
A6: 雪峰 | B6: 肖典桂 | C6: 46174 | D6: 46295 | E6: 50000 | F6: 310.64286 | G6: 217.45
A7: 龙头庵 | B7: 肖洪加 | C7: 46174 | D7: 46295 | E7: 48000 | F7: 562.54 | G7: 393.78
A8: 长田 | B8: 许多刚 | C8: 46174 | D8: 46295 | E8: 50000 | F8: 558.2 | G8: 390.74
A9: 茶元村 | B9: 米修和 | C9: 46174 | D9: 46295 | E9: 50000 | F9: 600.69 | G9: 420.48
A10: 茶元3 | B10: 米贤松 | C10: 46174 | D10: 46295 | E10: 50000 | F10: 511.11429 | G10: 357.78
A11: 长田18 | B11: 许多风 | C11: 46174 | D11: 46295 | E11: 50000 | F11: 620.97143 | G11: 434.68
A12: 寨门2 | B12: 刘熠熠 | C12: 46174 | D12: 46295 | E12: 50000 | F12: 512.51429 | G12: 358.76
A13: 九曲3 | B13: 米庆桥 | C13: 46174 | D13: 46295 | E13: 50000 | F13: 512.51429 | G13: 358.76
A14: 戴家坪10 | B14: 刘玉海 | C14: 46174 | D14: 46295 | E14: 50000 | F14: 511.11429 | G14: 357.78
A15: 塘冲3 | B15: 翟德发 | C15: 46174 | D15: 46295 | E15: 50000 | F15: 511.11429 | G15: 357.78
A16: 枣子2 | B16: 米庆田 | C16: 46174 | D16: 46295 | E16: 50000 | F16: 511.11429 | G16: 357.78
A17: 枣子3 | B17: 米久贤 | C17: 46174 | D17: 46295 | E17: 50000 | F17: 509.17143 | G17: 356.42
... A137: 周家人村 | B137: 周轩 | C137: 45987 | D137: 46286 | E137: 50000 | F137: 1504.19 | G137: 1052.93
A139: 龙泉岩乡松林溪村5组 | B139: 胡自永 | C139: 20260601 | D139: 20260930 | E139: 50000 | F139: 666.66 | G139: =F139*0.7 -> 466.662
A140: 龙泉岩乡松林溪村9组 | B140: 郑孝平 | C140: 20260601 | D140: 20260930 | E140: 50000 | F140: 417.08 | G140: =F140*0.7 -> 291.956
A141: 龙泉岩乡板溪村11组 | B141: 黄烈美 | C141: 20260601 | D141: 20260930 | E141: 50000 | F141: 733.34 | G141: =F141*0.7 -> 513.338
A142: 龙泉岩乡板溪村9组 | B142: 罗天送 | C142: 20260601 | D142: 20260930 | E142: 50000 | F142: 666.66 | G142: =F142*0.7 -> 466.662
A143: 龙泉岩乡板溪村 | B143: 瞿凤英 | C143: 20260601 | D143: 20260930 | E143: 10000 | F143: 83.42 | G143: =F143*0.7 -> 58.394
A144: 龙泉岩乡金家坳村9组 | B144: 刘中华 | C144: 20260601 | D144: 20260930 | E144: 50000 | F144: 766.66 | G144: =F144*0.7 -> 536.662
A145: 龙泉岩乡金家坳村11组 | B145: 满长好 | C145: 20260601 | D145: 20260930 | E145: 50000 | F145: 755 | G145: =F145*0.7 -> 528.5
A146: 龙泉岩乡龙泉岩村20组 | B146: 黄八喜 | C146: 20260601 | D146: 20260930 | E146: 50000 | F146: 421.66 | G146: =F146*0.7 -> 295.162
A147: 龙泉岩乡龙泉岩村12组 | B147: 黄良贵 | C147: 20260601 | D147: 20260930 | E147: 50000 | F147: 747.89 | G147: =F147*0.7 -> 523.523
A148: 龙泉岩乡龙泉岩村18组 | B148: 谢和珍 | C148: 20260601 | D148: 20260930 | E148: 50000 | F148: 666.66 | G148: =F148*0.7 -> 466.662
A149: 龙泉岩乡龙泉岩村3组 | B149: 谢军 | C149: 20260601 | D149: 20260930 | E149: 50000 | F149: 379.17 | G149: =F149*0.7 -> 265.419
A150: 龙泉岩乡龙泉岩村6组 | B150: 易加清 | C150: 20260601 | D150: 20260930 | E150: 50000 | F150: 417.08 | G150: =F150*0.7 -> 291.956
... A157: 龙泉岩乡刘家坪村15组 | B157: 张乐爱 | C157: 20260601 | D157: 20260930 | E157: 50000 | F157: 417.08 | G157: =F157*0.7 -> 291.956
A159: 后塘瑶族乡前塘11 | B159: 刘林徐 | C159: 20260522 | D159: 20260921 | E159: 50000 | F159: 660.9 | G159: 462.63
A160: 后塘乡六里村 | B160: 舒和平 | C160: 20260527 | D160: 20260526 | E160: 50000 | F160: 533.34 | G160: 373.34
A161: 后塘瑶族乡岩门村十组 | B161: 叶竹蕊 | C161: 20260522 | D161: 20260921 | E161: 50000 | F161: 502.31 | G161: 351.62
A162: 后塘瑶族乡岩门村8组 | B162: 舒象群 | C162: 20260523 | D162: 2026091 | E162: 50000 | F162: 508.34 | G162: 355.84
A163: 后塘瑶族乡岩门村二组 | B163: 舒远长 | C163: 20260523 | D163: 20260921 | E163: 50000 | F163: 666.67 | G163: 466.67
A164: 后塘瑶族乡元坪村十组 | B164: 叶发 | C164: 20260415 | D164: 20260921 | E164: 50000 | F164: 666.67 | G164: 504.17
A165: 后塘瑶族乡王家村十八组 | B165: 舒远云 | C165: 20260415 | D165: 20260921 | E165: 50000 | F165: 666.66 | G165: 504.16
A166: 后塘瑶族乡岩门村三组 | B166: 舒大安 | C166: 20260415 | D166: 20260921 | E166: 50000 | F166: 664.18 | G166: 502.43
A167: 后塘瑶族乡岩门村七组 | B167: 舒福秋 | C167: 20260415 | D167: 20260921 | E167: 50000 | F167: 666.04 | G167: 503.73
A168: 后塘瑶族乡岩门村4组 | B168: 夏德春 | C168: 20260327 | D168: 20260921 | E168: 50000 | F168: 783.33 | G168: 623.33
...
